BEGIN:VCALENDAR
VERSION:2.0
PRODID:-//hacksw/handcal//NONSGML v1.0//EN
BEGIN:VEVENT
SUMMARY:Interclub Morestel
UID:142b82b7-189f-4336-9a81-da6803aa4d40
DTSTART:20260503T070000Z
DTEND:20260503T140000Z
LOCATION:Localisation 486 Rue Paul Claudel 38510 morestel
CATEGORIES:Sportif
STATUS:
DESCRIPTION:<p>Entree : 2,50€ par adulte ❖ Gratuit pour les
 judokas et les mineurs de - 16 ans<br>
 Buvette et restauration sur
 place ❖ Paiement en especes ou en CB</p>
URL;VALUE=URI:https://asvfjudo.sportsregions.fr/evenements/2026/05/03/interclub-morestel-2439146
END:VEVENT
END:VCALENDAR
