BEGIN:VCALENDAR
VERSION:2.0
PRODID:-//hacksw/handcal//NONSGML v1.0//EN
BEGIN:VEVENT
SUMMARY:Interclub JUDO CLUB CREMOLAN
UID:6d1ef4dd-fcfe-4fed-8871-c7e73473989b
DTSTART:20260524T060000Z
DTEND:20260524T150000Z
LOCATION:Localisation   
CATEGORIES:Sportif
STATUS:
URL;VALUE=URI:https://asvfjudo.sportsregions.fr/evenements/2026/05/24/interclub-judo-club-cremolan-2427780
END:VEVENT
END:VCALENDAR
